BEGIN:VCALENDAR
VERSION:2.0
PRODID:-//The Pier Hotel - ECPv6.15.18//NONSGML v1.0//EN
CALSCALE:GREGORIAN
METHOD:PUBLISH
X-ORIGINAL-URL:https://pierhotelcoffs.com.au
X-WR-CALDESC:Events for The Pier Hotel
REFRESH-INTERVAL;VALUE=DURATION:PT1H
X-Robots-Tag:noindex
X-PUBLISHED-TTL:PT1H
BEGIN:VTIMEZONE
TZID:Australia/Sydney
BEGIN:STANDARD
TZOFFSETFROM:+1100
TZOFFSETTO:+1000
TZNAME:AEST
DTSTART:20200404T160000
END:STANDARD
BEGIN:DAYLIGHT
TZOFFSETFROM:+1000
TZOFFSETTO:+1100
TZNAME:AEDT
DTSTART:20201003T160000
END:DAYLIGHT
BEGIN:STANDARD
TZOFFSETFROM:+1100
TZOFFSETTO:+1000
TZNAME:AEST
DTSTART:20210403T160000
END:STANDARD
BEGIN:DAYLIGHT
TZOFFSETFROM:+1000
TZOFFSETTO:+1100
TZNAME:AEDT
DTSTART:20211002T160000
END:DAYLIGHT
BEGIN:STANDARD
TZOFFSETFROM:+1100
TZOFFSETTO:+1000
TZNAME:AEST
DTSTART:20220402T160000
END:STANDARD
BEGIN:DAYLIGHT
TZOFFSETFROM:+1000
TZOFFSETTO:+1100
TZNAME:AEDT
DTSTART:20221001T160000
END:DAYLIGHT
END:VTIMEZONE
BEGIN:VEVENT
DTSTART;TZID=Australia/Sydney:20210226T200000
DTEND;TZID=Australia/Sydney:20210226T230000
DTSTAMP:20260425T031216
CREATED:20200212T011225Z
LAST-MODIFIED:20210208T033109Z
UID:1175-1614369600-1614380400@pierhotelcoffs.com.au
SUMMARY:Vanessa Lea & Road Train
DESCRIPTION:Vanessa Lea & Road Train are one of the busiest and most respected acts they have a proven ability to delight all crowds with their authentic blend of Country/Australiana\, combined with a nigh energy performance and star quality. \nVanessa Lea and her band\, Road Train\, have just been nominated amongst the Top 5 Finalist’s in Channel C’s Blue Shoe Awards\, with their instrumental ‘Beetroot Salad’. They also recently attended the A.S.A National Awards night in Sydney\, where they achieved a place in the top ten country section\, with their song ‘Awkward’. The band’s new album\, Red Stiletto had a total of 4 songs nominated in 3 sections of the top 25 in the ASA Awards. \n 
URL:https://pierhotelcoffs.com.au/event/vanessa-lea-road-train/2021-02-26/
CATEGORIES:Whats On
ATTACH;FMTTYPE=image/jpeg:https://pierhotelcoffs.com.au/wp-content/uploads/2020/02/Vanessa-Lea-HR-29.jpg
END:VEVENT
END:VCALENDAR