BEGIN:VCALENDAR
VERSION:2.0
PRODID:-//The Pier Hotel - ECPv6.15.18//NONSGML v1.0//EN
CALSCALE:GREGORIAN
METHOD:PUBLISH
X-ORIGINAL-URL:https://pierhotelcoffs.com.au
X-WR-CALDESC:Events for The Pier Hotel
REFRESH-INTERVAL;VALUE=DURATION:PT1H
X-Robots-Tag:noindex
X-PUBLISHED-TTL:PT1H
BEGIN:VTIMEZONE
TZID:Australia/Sydney
BEGIN:STANDARD
TZOFFSETFROM:+1100
TZOFFSETTO:+1000
TZNAME:AEST
DTSTART:20200404T160000
END:STANDARD
BEGIN:DAYLIGHT
TZOFFSETFROM:+1000
TZOFFSETTO:+1100
TZNAME:AEDT
DTSTART:20201003T160000
END:DAYLIGHT
BEGIN:STANDARD
TZOFFSETFROM:+1100
TZOFFSETTO:+1000
TZNAME:AEST
DTSTART:20210403T160000
END:STANDARD
BEGIN:DAYLIGHT
TZOFFSETFROM:+1000
TZOFFSETTO:+1100
TZNAME:AEDT
DTSTART:20211002T160000
END:DAYLIGHT
BEGIN:STANDARD
TZOFFSETFROM:+1100
TZOFFSETTO:+1000
TZNAME:AEST
DTSTART:20220402T160000
END:STANDARD
BEGIN:DAYLIGHT
TZOFFSETFROM:+1000
TZOFFSETTO:+1100
TZNAME:AEDT
DTSTART:20221001T160000
END:DAYLIGHT
END:VTIMEZONE
BEGIN:VEVENT
DTSTART;TZID=Australia/Sydney:20210312T193000
DTEND;TZID=Australia/Sydney:20210312T223000
DTSTAMP:20260425T043455
CREATED:20200212T224604Z
LAST-MODIFIED:20201222T015339Z
UID:2827-1615577400-1615588200@pierhotelcoffs.com.au
SUMMARY:Magic Mojo
DESCRIPTION:From easy listening Van Morrison & classic Creedence\, to rockin’ AC/DC & Pink’s pop\, “Magic Mojo” have it covered. They feature hits made famous by artists including Melissa Etheridge\, Pat Benatar\, Tina Turner\, Cold Chisel\, Dragon\, the Knack\, U2\, Fleetwood Mac….the list goes on and on. \nCoffs Covers Trio \n“Magic Mojo” is a powerful combination of 3 accomplished performers with an impressive collective history & a passion for sharing their craft.
URL:https://pierhotelcoffs.com.au/event/magic-mojo/2021-03-12/
CATEGORIES:Whats On
ATTACH;FMTTYPE=image/jpeg:https://pierhotelcoffs.com.au/wp-content/uploads/2020/02/Magic-Mojo.jpg
END:VEVENT
END:VCALENDAR